BEGIN:VCALENDAR
VERSION:2.0
PRODID:-//hacksw/handcal//NONSGML v1.0//EN
BEGIN:VEVENT
SUMMARY:Challenge Salier 15/18 ans
UID:2a894531-6143-4f36-833d-df9b8da784e1
DTSTART:20260414T220000Z
DTEND:20260419T220000Z
LOCATION:Localisation   
CATEGORIES:Sportif
STATUS:
URL;VALUE=URI:https://www.tennisclubloos.com/evenements/2026/04/15/challenge-salier-1518-ans-2368958
END:VEVENT
END:VCALENDAR
