BEGIN:VCALENDAR
VERSION:2.0
PRODID:-//hacksw/handcal//NONSGML v1.0//EN
BEGIN:VEVENT
SUMMARY:Galaxie Tennis Balle Verte
UID:cdf94685-b6a8-4003-a94d-a4e423e67a01
DTSTART:20260413T220000Z
DTEND:20260414T220000Z
LOCATION:Localisation   
CATEGORIES:Sportif
STATUS:
URL;VALUE=URI:https://www.tennisclubloos.com/evenements/2026/04/14/galaxie-tennis-balle-verte-2368957
END:VEVENT
END:VCALENDAR
