BEGIN:VCALENDAR
VERSION:2.0
PRODID:-//hacksw/handcal//NONSGML v1.0//EN
BEGIN:VEVENT
SUMMARY:Galaxie Tennis Balle Orange
UID:cf22e10b-fa0e-44b2-908b-c5496c10765e
DTSTART:20260412T220000Z
DTEND:20260413T220000Z
LOCATION:Localisation   
CATEGORIES:Sportif
STATUS:
URL;VALUE=URI:https://www.tennisclubloos.com/evenements/2026/04/13/galaxie-tennis-balle-orange-2368956
END:VEVENT
END:VCALENDAR
