BEGIN:VCALENDAR
VERSION:2.0
PRODID:-//hacksw/handcal//NONSGML v1.0//EN
BEGIN:VEVENT
SUMMARY:Chasse aux œufs !!!
UID:a67b076c-cb27-4376-b733-d3e4adac6770
DTSTART:20260407T220000Z
DTEND:20260411T220000Z
LOCATION:Localisation   
CATEGORIES:Festif
STATUS:
URL;VALUE=URI:https://www.tennisclubloos.com/evenements/2026/04/08/chasse-aux-oeufs-2368954
END:VEVENT
END:VCALENDAR
